BEGIN:VCALENDAR
METHOD:PUBLISH
VERSION:2.0
CALSCALE:GREGORIAN
PRODID:-//NONSGML WPForms//NONSGML Sugar Calendar Feeds v3.11.0//EN
X-WR-CALNAME:Bijeenkomst Bardienstteam
X-WR-CALDESC:Dorpshuis &quot\;De Furs&quot\;
X-WR-TIMEZONE:Europe/Amsterdam
BEGIN:VTIMEZONE
TZID:Europe/Amsterdam
BEGIN:STANDARD
TZOFFSETFROM:+0200
TZOFFSETTO:+0100
DTSTART:20251026T010000
TZNAME:CET
END:STANDARD
BEGIN:DAYLIGHT
TZOFFSETFROM:+0100
TZOFFSETTO:+0200
DTSTART:20260329T010000
TZNAME:CEST
END:DAYLIGHT
END:VTIMEZONE
BEGIN:VTIMEZONE
TZID:Europe/Amsterdam
BEGIN:STANDARD
TZOFFSETFROM:+0200
TZOFFSETTO:+0100
DTSTART:20251026T010000
TZNAME:CET
END:STANDARD
BEGIN:DAYLIGHT
TZOFFSETFROM:+0100
TZOFFSETTO:+0200
DTSTART:20260329T010000
TZNAME:CEST
END:DAYLIGHT
END:VTIMEZONE
BEGIN:VEVENT
SUMMARY:Bijeenkomst Bardienstteam
DESCRIPTION:
URL;VALUE=URI:https://defurs.nl/index.php/events/bijeenkomst-bardienstte
 am/
UID:urn:uuid:e21fa0b4-52d4-463e-b63b-b1f2d90b24c4
STATUS:CONFIRMED
ORGANIZER:
DTSTAMP:20260420T135854Z
DTSTART;TZID=Europe/Amsterdam:20260420T203000
DTEND;TZID=Europe/Amsterdam:20260420T220000
END:VEVENT
END:VCALENDAR