BEGIN:VCALENDAR
METHOD:PUBLISH
VERSION:2.0
CALSCALE:GREGORIAN
PRODID:-//NONSGML WPForms//NONSGML Sugar Calendar Feeds v3.11.0//EN
X-WR-CALNAME:Koningsfeest 2026
X-WR-CALDESC:Dorpshuis &quot\;De Furs&quot\;
X-WR-TIMEZONE:Europe/Amsterdam
BEGIN:VTIMEZONE
TZID:Europe/Amsterdam
BEGIN:DAYLIGHT
TZOFFSETFROM:+0100
TZOFFSETTO:+0200
DTSTART:20260329T010000
TZNAME:CEST
END:DAYLIGHT
END:VTIMEZONE
BEGIN:VTIMEZONE
TZID:Europe/Amsterdam
BEGIN:DAYLIGHT
TZOFFSETFROM:+0100
TZOFFSETTO:+0200
DTSTART:20260329T010000
TZNAME:CEST
END:DAYLIGHT
END:VTIMEZONE
BEGIN:VEVENT
SUMMARY:Koningsfeest 2026
DESCRIPTION:Meer info zie https://welzijnbewonerslagevuursche.nl/\n\n&nb
 sp\;
URL;VALUE=URI:https://defurs.nl/index.php/events/koningsfeest-2026/
UID:urn:uuid:cee803e1-5ca7-4b04-a5df-12b4c6d06b72
STATUS:CONFIRMED
ORGANIZER:
DTSTAMP:20260420T140205Z
DTSTART;TZID=Europe/Amsterdam:20260426T160000
DTEND;TZID=Europe/Amsterdam:20260426T220000
END:VEVENT
END:VCALENDAR