BEGIN:VCALENDAR
METHOD:PUBLISH
VERSION:2.0
CALSCALE:GREGORIAN
PRODID:-//NONSGML WPForms//NONSGML Sugar Calendar Feeds v3.11.0//EN
X-WR-CALNAME:Lezing Natuurgeluk (Yvette)
X-WR-CALDESC:Dorpshuis &quot\;De Furs&quot\;
X-WR-TIMEZONE:Europe/Amsterdam
BEGIN:VTIMEZONE
TZID:Europe/Amsterdam
BEGIN:STANDARD
TZOFFSETFROM:+0200
TZOFFSETTO:+0100
DTSTART:20251026T010000
TZNAME:CET
END:STANDARD
BEGIN:DAYLIGHT
TZOFFSETFROM:+0100
TZOFFSETTO:+0200
DTSTART:20260329T010000
TZNAME:CEST
END:DAYLIGHT
END:VTIMEZONE
BEGIN:VTIMEZONE
TZID:Europe/Amsterdam
BEGIN:STANDARD
TZOFFSETFROM:+0200
TZOFFSETTO:+0100
DTSTART:20251026T010000
TZNAME:CET
END:STANDARD
BEGIN:DAYLIGHT
TZOFFSETFROM:+0100
TZOFFSETTO:+0200
DTSTART:20260329T010000
TZNAME:CEST
END:DAYLIGHT
END:VTIMEZONE
BEGIN:VEVENT
SUMMARY:Lezing Natuurgeluk (Yvette)
DESCRIPTION:
URL;VALUE=URI:https://defurs.nl/index.php/events/lezing-natuurgeluk-yvet
 te/
UID:urn:uuid:d408dec1-a1d0-4e0e-91ee-98b5251a35b7
STATUS:CONFIRMED
ORGANIZER:
DTSTAMP:20260420T134737Z
DTSTART;TZID=Europe/Amsterdam:20260422T203000
DTEND;TZID=Europe/Amsterdam:20260422T223000
END:VEVENT
END:VCALENDAR