BEGIN:VCALENDAR
METHOD:PUBLISH
VERSION:2.0
CALSCALE:GREGORIAN
PRODID:-//NONSGML WPForms//NONSGML Sugar Calendar Feeds v3.11.0//EN
X-WR-CALNAME:Natuurwandeling (besloten)
X-WR-CALDESC:Dorpshuis &quot\;De Furs&quot\;
X-WR-TIMEZONE:Europe/Amsterdam
BEGIN:VTIMEZONE
TZID:Europe/Amsterdam
BEGIN:STANDARD
TZOFFSETFROM:+0200
TZOFFSETTO:+0100
DTSTART:20251026T010000
TZNAME:CET
END:STANDARD
BEGIN:DAYLIGHT
TZOFFSETFROM:+0100
TZOFFSETTO:+0200
DTSTART:20260329T010000
TZNAME:CEST
END:DAYLIGHT
END:VTIMEZONE
BEGIN:VTIMEZONE
TZID:Europe/Amsterdam
BEGIN:STANDARD
TZOFFSETFROM:+0200
TZOFFSETTO:+0100
DTSTART:20251026T010000
TZNAME:CET
END:STANDARD
BEGIN:DAYLIGHT
TZOFFSETFROM:+0100
TZOFFSETTO:+0200
DTSTART:20260329T010000
TZNAME:CEST
END:DAYLIGHT
END:VTIMEZONE
BEGIN:VEVENT
SUMMARY:Natuurwandeling (besloten)
DESCRIPTION:
URL;VALUE=URI:https://defurs.nl/index.php/events/natuurwandeling-beslote
 n/
UID:urn:uuid:cf629683-a0e6-428b-ab96-87f09bed97e8
STATUS:CONFIRMED
ORGANIZER:
DTSTAMP:20260420T153018Z
DTSTART;TZID=Europe/Amsterdam:20260413T130000
DTEND;TZID=Europe/Amsterdam:20260413T170000
END:VEVENT
END:VCALENDAR