BEGIN:VCALENDAR
METHOD:PUBLISH
VERSION:2.0
CALSCALE:GREGORIAN
PRODID:-//NONSGML WPForms//NONSGML Sugar Calendar Feeds v3.11.0//EN
X-WR-CALNAME:Reservering Herbergier Kapel
X-WR-CALDESC:Dorpshuis &quot\;De Furs&quot\;
X-WR-TIMEZONE:Europe/Amsterdam
BEGIN:VTIMEZONE
TZID:Europe/Amsterdam
BEGIN:STANDARD
TZOFFSETFROM:+0200
TZOFFSETTO:+0100
DTSTART:20251026T010000
TZNAME:CET
END:STANDARD
BEGIN:DAYLIGHT
TZOFFSETFROM:+0100
TZOFFSETTO:+0200
DTSTART:20260329T010000
TZNAME:CEST
END:DAYLIGHT
END:VTIMEZONE
BEGIN:VTIMEZONE
TZID:Europe/Amsterdam
BEGIN:STANDARD
TZOFFSETFROM:+0200
TZOFFSETTO:+0100
DTSTART:20251026T010000
TZNAME:CET
END:STANDARD
BEGIN:DAYLIGHT
TZOFFSETFROM:+0100
TZOFFSETTO:+0200
DTSTART:20260329T010000
TZNAME:CEST
END:DAYLIGHT
END:VTIMEZONE
BEGIN:VEVENT
SUMMARY:Reservering Herbergier Kapel
DESCRIPTION:
URL;VALUE=URI:https://defurs.nl/index.php/events/reservering-herbergier-
 kapel/
UID:urn:uuid:0b73c66e-351e-4f45-bcff-0c63ce41332e
STATUS:CONFIRMED
ORGANIZER:
DTSTAMP:20260420T154550Z
DTSTART;TZID=Europe/Amsterdam:20260415T130000
DTEND;TZID=Europe/Amsterdam:20260415T160000
END:VEVENT
END:VCALENDAR